BEGIN:VCALENDAR
VERSION:2.0
PRODID:-//eventon.com NONSGML v1.0//EN
CALSCALE:GREGORIAN
METHOD:PUBLISH
BEGIN:VEVENT
UID:69e7f17756194
DTSTAMP:20260421T215151Z
DTSTART:20240222T180000Z
DTEND:20240222T220000Z
LOCATION:Hotel Königgut / Weinstube Oberfeldstrasse 1\,  5071 Wals bei Salzburg
SUMMARY:JDOST Club-Abend WEST
DESCRIPTION:E I N L A D U N G zum Clubabend der Sektion WEST des Jaguar Dai
 mler Sports &amp; Touring Car Clubs Ihr Ansprechpartner vor Ort: Hannes Sch
 affer hannes@jdost.at ● lernen Sie unseren Club kennen ● tauschen Sie s
 ich mit Gleichgesinnten aus ● Informieren Sie sich über Neuigkeiten rund
  um[..]\nhttps://www.jdost.at/termine/clubabend-2/
URL:https://www.jdost.at/termine/clubabend-2/
END:VEVENT
END:VCALENDAR