BEGIN:VCALENDAR
VERSION:2.0
PRODID:-//eventon.com NONSGML v1.0//EN
CALSCALE:GREGORIAN
METHOD:PUBLISH
BEGIN:VEVENT
UID:69ecb60b809b8
DTSTAMP:20260425T123939Z
DTSTART:20240224T080000Z
DTEND:20240224T130000Z
LOCATION:Fa. Histo Tech GmbH. Kernstockgasse 2-4\,  2620 Neunkirchen
SUMMARY:JDOST Beauty-Day mit Meguiars
DESCRIPTION:Programm: Lackpflege ; Kratzer entfernen ; Hologramme entfernen
  ; Innenreinigung ; Kunststoffpflege ; Lederpflege ; Räder u. Reifenpflege
  Kostenbeitrag: p.P. EUR 25\, 00 für Mitglieder ; EUR 30\, 00 Nichtmitglie
 der(inklusive Mittagssnacks ; Getränke ; Kaffee &amp; Kuchen) Anmeldefrist
  &#8211; 17.02.2024\nhttps://www.jdost.at/termine/beautyday/
URL:https://www.jdost.at/termine/beautyday/
END:VEVENT
END:VCALENDAR