BEGIN:VCALENDAR
VERSION:2.0
PRODID:-//eventon.com NONSGML v1.0//EN
CALSCALE:GREGORIAN
METHOD:PUBLISH
BEGIN:VEVENT
UID:69e8abc07a8f9
DTSTAMP:20260422T110640Z
DTSTART:20250927
DTEND:20250928
LOCATION:2201 Gerasdorf bei Wien 2201 Gerasdorf bei Wien\,  Kirchengasse
SUMMARY:JDOST at the Gerasdorf Oldtimer Classic
DESCRIPTION:JDOST at the Gerasdorf Oldtimer Classic\nhttps://www.jdost.at/e
 n/termine/jdost-at-the-gerasdorf-oldtimer-classic/
URL:https://www.jdost.at/en/termine/jdost-at-the-gerasdorf-oldtimer-classic/
END:VEVENT
END:VCALENDAR