BEGIN:VCALENDAR
VERSION:2.0
PRODID:-//eventon.com NONSGML v1.0//EN
CALSCALE:GREGORIAN
METHOD:PUBLISH
BEGIN:VEVENT
UID:69e8acbd1db26
DTSTAMP:20260422T111053Z
DTSTART:20250406T111500Z
DTEND:20250406T143000Z
LOCATION:Fa. Reifen Fleischmann Inkustrasse 20\,  3400 Klosterneuburg
SUMMARY:JDOST Lichtschranken-Training
DESCRIPTION:Einladung zum JDOST Lichtschranken-Training Liebe Teilnehmer\, 
  wir freuen uns\,  euch zum JDOST Lichtschranken-Training einzuladen! Diese
 s Training bietet eine hervorragende Gelegenheit\,  eure Fähigkeiten für 
 Timingprüfungen von Oldtimerrallys zu vertiefen . Datum: 06.04.2025 Uhrzei
 t: 13:15 Ort: Nähe Reifen Fleischmann\,  Inkustrasse 20\,  3400 Klosterneu
 burg Unkostenbeitrag für Nichtmitglieder: EUR 45\, - pro Auto In diesem[..
 ]\nhttps://www.jdost.at/termine/jdost-lichtschranken-training/
URL:https://www.jdost.at/termine/jdost-lichtschranken-training/
END:VEVENT
END:VCALENDAR